BEGIN:VCALENDAR
VERSION:2.0
PRODID:-//The Awakening Group - ECPv6.15.20//NONSGML v1.0//EN
CALSCALE:GREGORIAN
METHOD:PUBLISH
X-ORIGINAL-URL:https://awakening.com.au
X-WR-CALDESC:Events for The Awakening Group
REFRESH-INTERVAL;VALUE=DURATION:PT1H
X-Robots-Tag:noindex
X-PUBLISHED-TTL:PT1H
BEGIN:VTIMEZONE
TZID:Australia/Brisbane
BEGIN:STANDARD
TZOFFSETFROM:+1000
TZOFFSETTO:+1000
TZNAME:AEST
DTSTART:20250101T000000
END:STANDARD
END:VTIMEZONE
BEGIN:VEVENT
DTSTART;TZID=Australia/Brisbane:20260228T090000
DTEND;TZID=Australia/Brisbane:20260228T170000
DTSTAMP:20260423T185920
CREATED:20251001T063129Z
LAST-MODIFIED:20251001T063337Z
UID:132865-1772269200-1772298000@awakening.com.au
SUMMARY:Case Management
DESCRIPTION:A comprehensive program on all aspects of case management including: \n\nlegalities\ncase management procedures\,\nforms for client intake\, consent\, personal plans\, strength building\, intervention\, case closure\nworking with complex cases\nconducting case management meetings\nmonitoring and review case work activities and processes\nIntervention\nworking with stakeholders\ncase closure\n\nIncludes: \n\nIncludes live webinar\nIncludes comprehensive online classroom with audio\, video\, quizzes and assessment\nIncludes case management forms\nIncludes keynote presentation slides as workbook
URL:https://awakening.com.au/event/case-management/
LOCATION:Online via Zoom
CATEGORIES:Holistic Counsellor Training
ATTACH;FMTTYPE=image/jpeg:https://awakening-com.s3.ap-southeast-2.amazonaws.com/2025/06/iStock-1768953773.jpg
END:VEVENT
END:VCALENDAR