BEGIN:VCALENDAR
VERSION:2.0
PRODID:-//The Awakening Group - ECPv6.15.20//NONSGML v1.0//EN
CALSCALE:GREGORIAN
METHOD:PUBLISH
X-WR-CALNAME:The Awakening Group
X-ORIGINAL-URL:https://awakening.com.au
X-WR-CALDESC:Events for The Awakening Group
REFRESH-INTERVAL;VALUE=DURATION:PT1H
X-Robots-Tag:noindex
X-PUBLISHED-TTL:PT1H
BEGIN:VTIMEZONE
TZID:Australia/Brisbane
BEGIN:STANDARD
TZOFFSETFROM:+1000
TZOFFSETTO:+1000
TZNAME:AEST
DTSTART:20250101T000000
END:STANDARD
END:VTIMEZONE
BEGIN:VEVENT
DTSTART;TZID=Australia/Brisbane:20260317T183000
DTEND;TZID=Australia/Brisbane:20260324T213000
DTSTAMP:20260421T235100
CREATED:20251001T064336Z
LAST-MODIFIED:20251001T064849Z
UID:132869-1773772200-1774387800@awakening.com.au
SUMMARY:Embracing Diversity
DESCRIPTION:Welcome to a comprehensive course\, a module in the Diploma in Holistic Counselling program\, designed to support counsellors and support workers to navigate diversity.\nThis 28 lesson program is designed to support working with diversity such as gender\, age\, disabilities\, LGBTQIA+\, cultural\, linguistic and faith communities\, neurodiversity\, all elements of diversity.\n\nThis course highlights and challenges implicit bias from a place of calling in and appreciation along with up-skilling participants on sensitive and inclusive language\, inclusion\, cultural etiquette in relation to conflict\, relationships and many other aspects of diversity. \n\n\n\n\nThere are 4 modules and each module is broken up into further lessons\, click on module titles below for further details.\n\n\nCHCDIV001: Working with Diverse People. A comprehensive program on aspects of working with inclusion\, diversity\, belonging\, inclusive language and intersectionality divided into 4 modules: \n\nImplicit Bias\nDiversity and Inclusiveness\nInclusive Language\nIntersectionality
URL:https://awakening.com.au/event/embracing-diversity/
LOCATION:Online via Zoom
CATEGORIES:Holistic Counsellor Training
ATTACH;FMTTYPE=image/jpeg:https://awakening-com.s3.ap-southeast-2.amazonaws.com/2025/06/iStock-847541546.jpg
END:VEVENT
END:VCALENDAR