BEGIN:VCALENDAR
VERSION:2.0
PRODID:-//The Awakening Group - ECPv6.15.20//NONSGML v1.0//EN
CALSCALE:GREGORIAN
METHOD:PUBLISH
X-ORIGINAL-URL:https://awakening.com.au
X-WR-CALDESC:Events for The Awakening Group
REFRESH-INTERVAL;VALUE=DURATION:PT1H
X-Robots-Tag:noindex
X-PUBLISHED-TTL:PT1H
BEGIN:VTIMEZONE
TZID:Australia/Brisbane
BEGIN:STANDARD
TZOFFSETFROM:+1000
TZOFFSETTO:+1000
TZNAME:AEST
DTSTART:20250101T000000
END:STANDARD
END:VTIMEZONE
BEGIN:VEVENT
DTSTART;TZID=Australia/Brisbane:20260630T183000
DTEND;TZID=Australia/Brisbane:20260630T213000
DTSTAMP:20260420T071833
CREATED:20251001T063858Z
LAST-MODIFIED:20251001T063858Z
UID:132867-1782844200-1782855000@awakening.com.au
SUMMARY:Crisis Counselling
DESCRIPTION:Welcome to a comprehensive course\, a module in the Diploma in Holistic Counselling program\, designed to support counsellors and support workers to navigate crisis situations when working with clients. This is a 29 lesson program outlining mental health professionals roles and responsibilities in keeping clients safe identifying imminent crisis situations\, knowing the safety signs\, intervening safely based on capacity\, shoring up safety plans and support and empowering the client to make informed choices.  This program also addresses strategies to ensure the safety of the counsellor or support worker to avoid vicarious trauma and burn out.\n\nThere are 4 modules and each module is broken up into further lessons\, click on module titles below. The program is divided into 4 Modules:\n1. Identify Imminent Crisis Situations\n2. Address Immediate Safety Concerns\n3. Crisis Intervention Support\n4. Self Care\n\nCHCCCS019: Recognise and respond to crisis situation. A comprehensive program on all aspects of crisis management inclu
URL:https://awakening.com.au/event/crisis-counselling/
LOCATION:Online via Zoom
CATEGORIES:Holistic Counsellor Training
ATTACH;FMTTYPE=image/jpeg:https://awakening-com.s3.ap-southeast-2.amazonaws.com/2025/05/iStock-468154640.jpg
END:VEVENT
END:VCALENDAR